Workbook

Sheet 1.  Instructions

Sheet 2a.  Simple Form Data Entry
C2: Simple Form Data Entry
C4: - In the highlighted cells, enter the information requested In this form. | J4: Simple data entry field
C5: - A fiscal note for the property sale/lease will be generated based on this information (see Fiscal Note tab). | J5: Dropdown menu data entry
C7: 1. General Transaction Information
C9: Financial Plan Element | D9: Description/Guidance on Requested Information | G9: Data Entry Field
C10: Description of Request: | G10: Valley Regional Fire Authority - King County Medic One Auburn
C11: Title: | D11: Include property name and related agency/service/function. | G11: Valley Regional Fire Authority - Auburn
C12: Affected Agency and/or Agencies: | D12: Applicable division and department names. | G12: Public Health - Seattle King County
C13: Legal Transaction Type: | D13: Sale, lease renewal, new lease for new service, relocation, other. | G13: Lease Renewal
C14: Fiscal Transaction Type: | D14: 1st/2nd/3rd omnibus, biennial review, stand alone ordinance, other. | G14: Stand Alone
C15: Note Prepared By: | D15: FMD finance manager and property agent. | G15: Sandy Ou / Steven Tease
C16: Date Prepared: | D16: Date in XX/XX/XX text format (i.e., 'XX/XX/XX) | G16: 2/3/2026
C17: Transaction Duration: | D17: The term of the lease/agreement or capital investment. Property sale = NA. | G17: Five Years
C18: Fair Market Value: | D18: If not a sale = NA. | G18: N/A
C19: Current Year: | D19: First year of current biennium (in XXXX format, should be odd number). | G19: 2026
G20: Appropriation Unit Name | J20: Appr. Unit Number | K20: Department | L20: Fund Number
C21: Appropriation Units Impacted: | D21: All impacted appropriation unit names and numbers and department initials.
C29: Projects Impacted: | D29: Project numbers impacted by this transaction (enter as 7 digit number with', i.e., 'XXXXXXX).
I31: NA
C34: 2. Financial Impacts - Net Present Value
C36: An NPV analysis should be performed for transactions that: - Result in long term financial impacts, especially including instances where a transaction represents an upfront cost to be recouped in later years - Where the transaction represents a change in policy or opertions, and - Where there are viable alternatives with different benefits and costs that should be considered. Examples include vacating a owned space for a leased space, selling a currently operating facility, entering into a long term agreement to lease out a property, relocating from one leased space to another. An explanation of the NPV analysis, including major assumptions and supporting information, should be provided in the "Notes" section . If no NPV was performed, the rationale for not providing this information should be provided below.
C37: Financial Plan Element | D37: Description/Guidance on Requested Information | G37: Data Entry Field
C39: Was an Net Present Value calculation performed? | D39: Indicate whether a NPV analysis has been performed. If no NPV, then indicate why below. | G39: N
C40: Net Present Value to King County: | D40: The NPV of the transaction to King County as a whole. NA = not performed.
C41: Net Present Value to Impacted Agency: | D41: The NPV of the transaction to the primary customer of the transaction. NA = not performed.
C43: If an NPV analysis was not performed for either the County or the Agency or both, state rationale here: | D43: An NPV analysis was not performed because …
C46: 3. Financial Impacts - Revenue and Expenditure Impacts
C48: - Provide the estimated revenue and expenditure impacts to each KC appropriation unit and project combination. - Impacts should represent the complete revenue/expenditure impacts of the transaction, whether or not there is a corresponding need for supplemental appropriation. Not all the costs included in the NPV will be represented below. For instance, ongoing maintenance costs in a KC building vacated by a KC agency may be included in the KC NPV, but would not be included below because the transaction does not impact these costs. - For transactions with mid-year impacts, the fiscal note should represent the best estimate of the effective date of the transaction as of the date prepared. - The sum of outyear impacts for revenue and expenditures includes all revenues/expenditures for the duration of the lease/other agreement or life of the capital investment. - Values represented below should be net values (combined impact of cost savings and additional costs, revenue loss and new revenues). Overall, positive values indicate an increase in revenues/expenditures while negative values indicate a reduction in expenditures/revenues. De minimus cost savings, such as minor reductions in maintenance costs, do not need to be included. - A detailed explanation of revenue and expenditure impacts analysis, including workload impacts, major assumptions, and other supporting data, should be provided in the property summary.
C50: 3.1. Revenue Impacts:
C52: Is the cost of the transaction partially or entirely covered by fund balance? | D52: N | E52: If yes, indicate fund balance amount: (enter as text, including $ and ,)
C54: Is the activity partially or entirely covered by reallocation of grants? | D54: N | E54: If yes, indicate grant amount: (enter as text, including $ and ,)
C56: Indicate new revenue provided to KC appropriation units as a result of this transaction. Fund balance and reallocated grant revenue ARE NOT new revenue.
C57: Appropriation Unit Name | D57: Project | E57: Revenue Account Code and Source/Description | G57: 2026 | H57: =G57+1 -> 2027 | I57: =H57+1 -> 2028 | J57: =I57+1 -> 2029 | K57: =J57+1 -> 2030 | L57: =K57+1 -> 2031 | M57: Sum of Outyear Impacts | N57: =CONCATENATE("Sum of Revenues Prior to ",G$19) -> Sum of Revenues Prior to 2026
C66: 3.2. Expenditures Impacts:
C68: Indicate expenditure impacts in the categories indicated and defined below that result from this transaction.
C70: Descriptions of Expenditure Categories:
C71: Real Estate Services Labor Costs | E71: Labor costs that RES has incurred associated with this transaction.
C72: King County Project Management | E72: Project management to be incurred in association with this transaction.
C73: Lease Payments/Associated O&M | E73: Lease payments as well as associated O&M for the life of the agreement.
C74: Service Costs (Appraisal, Title, Move) | E74: Moving/relocation costs, appraisal costs, title fees, and other services provided in support of the transaction.
...

Sheet 3a.  Simple Form Fiscal Note
A1: KING COUNTY FISCAL NOTE - Property Leases and Sales
A3: GENERAL TRANSACTION INFORMATION
A5: Ordinance/Motion:
A6: Title: | C6: =IF('2a. Simple Form Data Entry'!G11="", " ",'2a. Simple Form Data Entry'!G11) -> Valley Regional Fire Authority - Auburn | L6: Transaction Duration: | R6: =IF('2a. Simple Form Data Entry'!G17="", " ",'2a. Simple Form Data Entry'!G17) -> Five Years
A7: Affected Agency/Agencies: | C7: =IF('2a. Simple Form Data Entry'!G12="", " ",'2a. Simple Form Data Entry'!G12) -> Public Health - Seattle King County | L7: Fair Market Value: | R7: ='2a. Simple Form Data Entry'!G18 -> N/A
A8: Note Prepared By: | C8: =IF('2a. Simple Form Data Entry'!G15="", " ",'2a. Simple Form Data Entry'!G15) -> Sandy Ou / Steven Tease | F8: Date Prepared: | H8: =IF('2a. Simple Form Data Entry'!G15="", " ", '2a. Simple Form Data Entry'!G16) -> 2/3/2026 | L8: Legal Transaction Type: | R8: =IF('2a. Simple Form Data Entry'!G13="", " ",'2a. Simple Form Data Entry'!G13) -> Lease Renewal
A9: Note Reviewed By: | F9: Date Reviewed: | L9: Fiscal Transaction Type: | R9: =IF('2a. Simple Form Data Entry'!G14="", " ",'2a. Simple Form Data Entry'!G14) -> Stand Alone
A10: Description of Request: | C10: =IF('2a. Simple Form Data Entry'!G10="", " ", '2a. Simple Form Data Entry'!G10) -> Valley Regional Fire Authority - King County Medic One Auburn
A13: FINANCIAL IMPACTS
A15: Part 1 - Net Present Value Analysis Results
A17: Net Present Value to King County (all impacts): *** | E17: =IF('2a. Simple Form Data Entry'!G39="N", "NA",'2a. Simple Form Data Entry'!G40) -> NA | H17: Net Present Value to Primary Impacted Agency (customer of transaction): *** | O17: =IF('2a. Simple Form Data Entry'!G39="N", "NA",'2a. Simple Form Data Entry'!G41) -> NA
A19: Part 2 - Revenue and Expenditure Impacts
A21: As of the preparation date of this fiscal note, the impact of the above legislation on the financial affairs of King County is estimated to be as indicated below:
A23: Revenue to: 2,3,5
A24: Appropriation Unit | D24: Appr. Number | E24: Department | F24: Fund Number | G24: Project Number | H24: Revenue Account Code and Source/Description | I24: ='2a. Simple Form Data Entry'!N57 -> Sum of Revenues Prior to 2026 | J24: ='2a. Simple Form Data Entry'!G19 -> 2026 | K24: =J24+1 -> 2027 | L24: =CONCATENATE(J24," / ",K24) -> 2026 / 2027 | M24: =K24+1 -> 2028 | N24: =M24+1 -> 2029 | O24: =CONCATENATE(M24," / ",N24) -> 2028 / 2029 | P24: =N24+1 -> 2030 | Q24: =P24+1 -> 2031 | R24: =CONCATENATE(P24," / ",Q24) -> 2030 / 2031 | S24: Sum of Outyear Impacts 2
A25: =IF('2a. Simple Form Data Entry'!C58="", " ", '2a. Simple Form Data Entry'!C58) | D25: =IF(A25=" ", " ", IF(A25='2a. Simple Form Data Entry'!$G$21, '2a. Simple Form Data Entry'!J$21, IF(A25='2a. Simple Form Data Entry'!$G$22,'2a. Simple Form Data Entry'!J$22, IF(A25='2a. Simple Form Data Entry'!$G$23, '2a. Simple Form Data Entry'!J$23, IF(A25='2a. Simple Form Data Entry'!$G$24, '2a. Simple Form Data Entry'!$J$24, IF(A25='2a. Simple Form Data Entry'!$G$25,'2a. Simple Form Data Entry'!J$25, IF(A25='2a. Simple Form Data Entry'!$G$26,'2a. Simple Form Data Entry'!J$26, " "))))))) | E25: =IF(A25=" ", " ", IF(A25='2a. Simple Form Data Entry'!$G$21, '2a. Simple Form Data Entry'!K$21, IF(A25='2a. Simple Form Data Entry'!$G$22,'2a. Simple Form Data Entry'!K$22, IF(A25='2a. Simple Form Data Entry'!$G$23, '2a. Simple Form Data Entry'!K$23, IF(A25='2a. Simple Form Data Entry'!$G$24, '2a. Simple Form Data Entry'!$K$24, IF(A25='2a. Simple Form Data Entry'!G$25,'2a. Simple Form Data Entry'!K$25, IF(A25='2a. Simple Form Data Entry'!G$26,'2a. Simple Form Data Entry'!K$26, " "))))))) | F25: =IF(A25=" ", " ", IF(A25='2a. Simple Form Data Entry'!$G$21, '2a. Simple Form Data Entry'!L$21, IF(A25='2a. Simple Form Data Entry'!$G$22,'2a. Simple Form Data Entry'!L$22, IF(A25='2a. Simple Form Data Entry'!$G$23, '2a. Simple Form Data Entry'!L$23, IF(A25='2a. Simple Form Data Entry'!$G$24, '2a. Simple Form Data Entry'!$L$24, IF(A25='2a. Simple Form Data Entry'!G$25,'2a. Simple Form Data Entry'!L$25, IF(A25='2a. Simple Form Data Entry'!G$26,'2a. Simple Form Data Entry'!L$26, " "))))))) | G25: =IF(A25="", " ", '2a. Simple Form Data Entry'!D58) | H25: =IF('2a. Simple Form Data Entry'!E58="", " ",'2a. Simple Form Data Entry'!E58) | I25: ='2a. Simple Form Data Entry'!N58 -> 0 | J25: ='2a. Simple Form Data Entry'!G58 -> 0 | K25: ='2a. Simple Form Data Entry'!H58 -> 0 | L25: =J25+K25 -> 0 | M25: ='2a. Simple Form Data Entry'!I58 -> 0 | N25: ='2a. Simple Form Data Entry'!J58 -> 0 | O25: =M25+N25 -> 0 | P25: ='2a. Simple Form Data Entry'!K58 -> 0 | Q25: ='2a. Simple Form Data Entry'!L58 -> 0 | R25: =P25+Q25 -> 0 | S25: ='2a. Simple Form Data Entry'!M58 -> 0
A26: =IF('2a. Simple Form Data Entry'!C59="", " ", '2a. Simple Form Data Entry'!C59) | D26: =IF(A26=" ", " ", IF(A26='2a. Simple Form Data Entry'!$G$21, '2a. Simple Form Data Entry'!J$21, IF(A26='2a. Simple Form Data Entry'!$G$22,'2a. Simple Form Data Entry'!J$22, IF(A26='2a. Simple Form Data Entry'!$G$23, '2a. Simple Form Data Entry'!J$23, IF(A26='2a. Simple Form Data Entry'!$G$24, '2a. Simple Form Data Entry'!$J$24, IF(A26='2a. Simple Form Data Entry'!$G$25,'2a. Simple Form Data Entry'!J$25, IF(A26='2a. Simple Form Data Entry'!$G$26,'2a. Simple Form Data Entry'!J$26, " "))))))) | E26: =IF(A26=" ", " ", IF(A26='2a. Simple Form Data Entry'!$G$21, '2a. Simple Form Data Entry'!K$21, IF(A26='2a. Simple Form Data Entry'!$G$22,'2a. Simple Form Data Entry'!K$22, IF(A26='2a. Simple Form Data Entry'!$G$23, '2a. Simple Form Data Entry'!K$23, IF(A26='2a. Simple Form Data Entry'!$G$24, '2a. Simple Form Data Entry'!$K$24, IF(A26='2a. Simple Form Data Entry'!G$25,'2a. Simple Form Data Entry'!K$25, IF(A26='2a. Simple Form Data Entry'!G$26,'2a. Simple Form Data Entry'!K$26, " "))))))) | F26: =IF(A26=" ", " ", IF(A26='2a. Simple Form Data Entry'!$G$21, '2a. Simple Form Data Entry'!L$21, IF(A26='2a. Simple Form Data Entry'!$G$22,'2a. Simple Form Data Entry'!L$22, IF(A26='2a. Simple Form Data Entry'!$G$23, '2a. Simple Form Data Entry'!L$23, IF(A26='2a. Simple Form Data Entry'!$G$24, '2a. Simple Form Data Entry'!$L$24, IF(A26='2a. Simple Form Data Entry'!G$25,'2a. Simple Form Data Entry'!L$25, IF(A26='2a. Simple Form Data Entry'!G$26,'2a. Simple Form Data Entry'!L$26, " "))))))) | G26: =IF(A26="", " ", '2a. Simple Form Data Entry'!D59) | H26: =IF('2a. Simple Form Data Entry'!E59="", " ",'2a. Simple Form Data Entry'!E59) | I26: ='2a. Simple Form Data Entry'!N59 -> 0 | J26: ='2a. Simple Form Data Entry'!G59 -> 0 | K26: ='2a. Simple Form Data Entry'!H59 -> 0 | L26: =J26+K26 -> 0 | M26: ='2a. Simple Form Data Entry'!I59 -> 0 | N26: ='2a. Simple Form Data Entry'!J59 -> 0 | O26: =M26+N26 -> 0 | P26: ='2a. Simple Form Data Entry'!K59 -> 0 | Q26: ='2a. Simple Form Data Entry'!L59 -> 0 | R26: =P26+Q26 -> 0 | S26: ='2a. Simple Form Data Entry'!M59 -> 0
A27: =IF('2a. Simple Form Data Entry'!C60="", " ", '2a. Simple Form Data Entry'!C60) | D27: =IF(A27=" ", " ", IF(A27='2a. Simple Form Data Entry'!$G$21, '2a. Simple Form Data Entry'!J$21, IF(A27='2a. Simple Form Data Entry'!$G$22,'2a. Simple Form Data Entry'!J$22, IF(A27='2a. Simple Form Data Entry'!$G$23, '2a. Simple Form Data Entry'!J$23, IF(A27='2a. Simple Form Data Entry'!$G$24, '2a. Simple Form Data Entry'!$J$24, IF(A27='2a. Simple Form Data Entry'!$G$25,'2a. Simple Form Data Entry'!J$25, IF(A27='2a. Simple Form Data Entry'!$G$26,'2a. Simple Form Data Entry'!J$26, " "))))))) | E27: =IF(A27=" ", " ", IF(A27='2a. Simple Form Data Entry'!$G$21, '2a. Simple Form Data Entry'!K$21, IF(A27='2a. Simple Form Data Entry'!$G$22,'2a. Simple Form Data Entry'!K$22, IF(A27='2a. Simple Form Data Entry'!$G$23, '2a. Simple Form Data Entry'!K$23, IF(A27='2a. Simple Form Data Entry'!$G$24, '2a. Simple Form Data Entry'!$K$24, IF(A27='2a. Simple Form Data Entry'!G$25,'2a. Simple Form Data Entry'!K$25, IF(A27='2a. Simple Form Data Entry'!G$26,'2a. Simple Form Data Entry'!K$26, " "))))))) | F27: =IF(A27=" ", " ", IF(A27='2a. Simple Form Data Entry'!$G$21, '2a. Simple Form Data Entry'!L$21, IF(A27='2a. Simple Form Data Entry'!$G$22,'2a. Simple Form Data Entry'!L$22, IF(A27='2a. Simple Form Data Entry'!$G$23, '2a. Simple Form Data Entry'!L$23, IF(A27='2a. Simple Form Data Entry'!$G$24, '2a. Simple Form Data Entry'!$L$24, IF(A27='2a. Simple Form Data Entry'!G$25,'2a. Simple Form Data Entry'!L$25, IF(A27='2a. Simple Form Data Entry'!G$26,'2a. Simple Form Data Entry'!L$26, " "))))))) | G27: =IF(A27="", " ", '2a. Simple Form Data Entry'!D60) | H27: =IF('2a. Simple Form Data Entry'!E60="", " ",'2a. Simple Form Data Entry'!E60) | I27: ='2a. Simple Form Data Entry'!N60 -> 0 | J27: ='2a. Simple Form Data Entry'!G60 -> 0 | K27: ='2a. Simple Form Data Entry'!H60 -> 0 | L27: =J27+K27 -> 0 | M27: ='2a. Simple Form Data Entry'!I60 -> 0 | N27: ='2a. Simple Form Data Entry'!J60 -> 0 | O27: =M27+N27 -> 0 | P27: ='2a. Simple Form Data Entry'!K60 -> 0 | Q27: ='2a. Simple Form Data Entry'!L60 -> 0 | R27: =P27+Q27 -> 0 | S27: ='2a. Simple Form Data Entry'!M60 -> 0
A28: =IF('2a. Simple Form Data Entry'!C61="", " ", '2a. Simple Form Data Entry'!C61) | D28: =IF(A28=" ", " ", IF(A28='2a. Simple Form Data Entry'!$G$21, '2a. Simple Form Data Entry'!J$21, IF(A28='2a. Simple Form Data Entry'!$G$22,'2a. Simple Form Data Entry'!J$22, IF(A28='2a. Simple Form Data Entry'!$G$23, '2a. Simple Form Data Entry'!J$23, IF(A28='2a. Simple Form Data Entry'!$G$24, '2a. Simple Form Data Entry'!$J$24, IF(A28='2a. Simple Form Data Entry'!$G$25,'2a. Simple Form Data Entry'!J$25, IF(A28='2a. Simple Form Data Entry'!$G$26,'2a. Simple Form Data Entry'!J$26, " "))))))) | E28: =IF(A28=" ", " ", IF(A28='2a. Simple Form Data Entry'!$G$21, '2a. Simple Form Data Entry'!K$21, IF(A28='2a. Simple Form Data Entry'!$G$22,'2a. Simple Form Data Entry'!K$22, IF(A28='2a. Simple Form Data Entry'!$G$23, '2a. Simple Form Data Entry'!K$23, IF(A28='2a. Simple Form Data Entry'!$G$24, '2a. Simple Form Data Entry'!$K$24, IF(A28='2a. Simple Form Data Entry'!G$25,'2a. Simple Form Data Entry'!K$25, IF(A28='2a. Simple Form Data Entry'!G$26,'2a. Simple Form Data Entry'!K$26, " "))))))) | F28: =IF(A28=" ", " ", IF(A28='2a. Simple Form Data Entry'!$G$21, '2a. Simple Form Data Entry'!L$21, IF(A28='2a. Simple Form Data Entry'!$G$22,'2a. Simple Form Data Entry'!L$22, IF(A28='2a. Simple Form Data Entry'!$G$23, '2a. Simple Form Data Entry'!L$23, IF(A28='2a. Simple Form Data Entry'!$G$24, '2a. Simple Form Data Entry'!$L$24, IF(A28='2a. Simple Form Data Entry'!G$25,'2a. Simple Form Data Entry'!L$25, IF(A28='2a. Simple Form Data Entry'!G$26,'2a. Simple Form Data Entry'!L$26, " "))))))) | G28: =IF(A28="", " ", '2a. Simple Form Data Entry'!D61) | H28: =IF('2a. Simple Form Data Entry'!E61="", " ",'2a. Simple Form Data Entry'!E61) | I28: ='2a. Simple Form Data Entry'!N61 -> 0 | J28: ='2a. Simple Form Data Entry'!G61 -> 0 | K28: ='2a. Simple Form Data Entry'!H61 -> 0 | L28: =J28+K28 -> 0 | M28: ='2a. Simple Form Data Entry'!I61 -> 0 | N28: ='2a. Simple Form Data Entry'!J61 -> 0 | O28: =M28+N28 -> 0 | P28: ='2a. Simple Form Data Entry'!K61 -> 0 | Q28: ='2a. Simple Form Data Entry'!L61 -> 0 | R28: =P28+Q28 -> 0 | S28: ='2a. Simple Form Data Entry'!M61 -> 0
A29: =IF('2a. Simple Form Data Entry'!C62="", " ", '2a. Simple Form Data Entry'!C62) | D29: =IF(A29=" ", " ", IF(A29='2a. Simple Form Data Entry'!$G$21, '2a. Simple Form Data Entry'!J$21, IF(A29='2a. Simple Form Data Entry'!$G$22,'2a. Simple Form Data Entry'!J$22, IF(A29='2a. Simple Form Data Entry'!$G$23, '2a. Simple Form Data Entry'!J$23, IF(A29='2a. Simple Form Data Entry'!$G$24, '2a. Simple Form Data Entry'!$J$24, IF(A29='2a. Simple Form Data Entry'!$G$25,'2a. Simple Form Data Entry'!J$25, IF(A29='2a. Simple Form Data Entry'!$G$26,'2a. Simple Form Data Entry'!J$26, " "))))))) | E29: =IF(A29=" ", " ", IF(A29='2a. Simple Form Data Entry'!$G$21, '2a. Simple Form Data Entry'!K$21, IF(A29='2a. Simple Form Data Entry'!$G$22,'2a. Simple Form Data Entry'!K$22, IF(A29='2a. Simple Form Data Entry'!$G$23, '2a. Simple Form Data Entry'!K$23, IF(A29='2a. Simple Form Data Entry'!$G$24, '2a. Simple Form Data Entry'!$K$24, IF(A29='2a. Simple Form Data Entry'!G$25,'2a. Simple Form Data Entry'!K$25, IF(A29='2a. Simple Form Data Entry'!G$26,'2a. Simple Form Data Entry'!K$26, " "))))))) | F29: =IF(A29=" ", " ", IF(A29='2a. Simple Form Data Entry'!$G$21, '2a. Simple Form Data Entry'!L$21, IF(A29='2a. Simple Form Data Entry'!$G$22,'2a. Simple Form Data Entry'!L$22, IF(A29='2a. Simple Form Data Entry'!$G$23, '2a. Simple Form Data Entry'!L$23, IF(A29='2a. Simple Form Data Entry'!$G$24, '2a. Simple Form Data Entry'!$L$24, IF(A29='2a. Simple Form Data Entry'!G$25,'2a. Simple Form Data Entry'!L$25, IF(A29='2a. Simple Form Data Entry'!G$26,'2a. Simple Form Data Entry'!L$26, " "))))))) | G29: =IF(A29="", " ", '2a. Simple Form Data Entry'!D62) | H29: =IF('2a. Simple Form Data Entry'!E62="", " ",'2a. Simple Form Data Entry'!E62) | I29: ='2a. Simple Form Data Entry'!N62 -> 0 | J29: ='2a. Simple Form Data Entry'!G62 -> 0 | K29: ='2a. Simple Form Data Entry'!H62 -> 0 | L29: =J29+K29 -> 0 | M29: ='2a. Simple Form Data Entry'!I62 -> 0 | N29: ='2a. Simple Form Data Entry'!J62 -> 0 | O29: =M29+N29 -> 0 | P29: ='2a. Simple Form Data Entry'!K62 -> 0 | Q29: ='2a. Simple Form Data Entry'!L62 -> 0 | R29: =P29+Q29 -> 0 | S29: ='2a. Simple Form Data Entry'!M62 -> 0
A30: =IF('2a. Simple Form Data Entry'!C63="", " ", '2a. Simple Form Data Entry'!C63) | D30: =IF(A30=" ", " ", IF(A30='2a. Simple Form Data Entry'!$G$21, '2a. Simple Form Data Entry'!J$21, IF(A30='2a. Simple Form Data Entry'!$G$22,'2a. Simple Form Data Entry'!J$22, IF(A30='2a. Simple Form Data Entry'!$G$23, '2a. Simple Form Data Entry'!J$23, IF(A30='2a. Simple Form Data Entry'!$G$24, '2a. Simple Form Data Entry'!$J$24, IF(A30='2a. Simple Form Data Entry'!$G$25,'2a. Simple Form Data Entry'!J$25, IF(A30='2a. Simple Form Data Entry'!$G$26,'2a. Simple Form Data Entry'!J$26, " "))))))) | E30: =IF(A30=" ", " ", IF(A30='2a. Simple Form Data Entry'!$G$21, '2a. Simple Form Data Entry'!K$21, IF(A30='2a. Simple Form Data Entry'!$G$22,'2a. Simple Form Data Entry'!K$22, IF(A30='2a. Simple Form Data Entry'!$G$23, '2a. Simple Form Data Entry'!K$23, IF(A30='2a. Simple Form Data Entry'!$G$24, '2a. Simple Form Data Entry'!$K$24, IF(A30='2a. Simple Form Data Entry'!G$25,'2a. Simple Form Data Entry'!K$25, IF(A30='2a. Simple Form Data Entry'!G$26,'2a. Simple Form Data Entry'!K$26, " "))))))) | F30: =IF(A30=" ", " ", IF(A30='2a. Simple Form Data Entry'!$G$21, '2a. Simple Form Data Entry'!L$21, IF(A30='2a. Simple Form Data Entry'!$G$22,'2a. Simple Form Data Entry'!L$22, IF(A30='2a. Simple Form Data Entry'!$G$23, '2a. Simple Form Data Entry'!L$23, IF(A30='2a. Simple Form Data Entry'!$G$24, '2a. Simple Form Data Entry'!$L$24, IF(A30='2a. Simple Form Data Entry'!G$25,'2a. Simple Form Data Entry'!L$25, IF(A30='2a. Simple Form Data Entry'!G$26,'2a. Simple Form Data Entry'!L$26, " "))))))) | G30: =IF(A30="", " ", '2a. Simple Form Data Entry'!D63) | H30: =IF('2a. Simple Form Data Entry'!E63="", " ",'2a. Simple Form Data Entry'!E63) | I30: ='2a. Simple Form Data Entry'!N63 -> 0 | J30: ='2a. Simple Form Data Entry'!G63 -> 0 | K30: ='2a. Simple Form Data Entry'!H63 -> 0 | L30: =J30+K30 -> 0 | M30: ='2a. Simple Form Data Entry'!I63 -> 0 | N30: ='2a. Simple Form Data Entry'!J63 -> 0 | O30: =M30+N30 -> 0 | P30: ='2a. Simple Form Data Entry'!K63 -> 0 | Q30: ='2a. Simple Form Data Entry'!L63 -> 0 | R30: =P30+Q30 -> 0 | S30: ='2a. Simple Form Data Entry'!M63 -> 0
C31: TOTAL | I31: =SUM(I25:I30) -> 0 | J31: =SUM(J25:J30) -> 0 | K31: =SUM(K25:K30) -> 0 | L31: =J31+K31 -> 0 | M31: =SUM(M25:M30) -> 0 | N31: =SUM(N25:N30) -> 0 | O31: =M31+N31 -> 0 | P31: =SUM(P25:P30) -> 0 | Q31: =SUM(Q25:Q30) -> 0 | R31: =P31+Q31 -> 0 | S31: =SUM(S25:S30) -> 0
A33: Expenditures from: 2,3,4,5
A34: Appropriation Unit/Expenditure Type | D34: Appr. Number | E34: Department | F34: Fund Number | G34: Project Number | H34: Expenditure Notes | I34: ='2a. Simple Form Data Entry'!N81 -> Sum of Expenditures Prior to 2026 | J34: ='2a. Simple Form Data Entry'!G19 -> 2026 | K34: =J34+1 -> 2027 | L34: =CONCATENATE(J34," / ",K34) -> 2026 / 2027 | M34: =K34+1 -> 2028 | N34: =M34+1 -> 2029 | O34: =CONCATENATE(M34," / ",N34) -> 2028 / 2029 | P34: =N34+1 -> 2030 | Q34: =P34+1 -> 2031 | R34: =CONCATENATE(P34," / ",Q34) -> 2030 / 2031 | S34: Sum of Outyear Impacts 2
A35: =IF('2a. Simple Form Data Entry'!E80="", " ", '2a. Simple Form Data Entry'!E80) | D35: =IF(A35=" ", " ", IF(A35='2a. Simple Form Data Entry'!$G$21, '2a. Simple Form Data Entry'!J$21, IF(A35='2a. Simple Form Data Entry'!$G$22,'2a. Simple Form Data Entry'!J$22, IF(A35='2a. Simple Form Data Entry'!$G$23, '2a. Simple Form Data Entry'!J$23, IF(A35='2a. Simple Form Data Entry'!$G$24, '2a. Simple Form Data Entry'!$J$24, IF(A35='2a. Simple Form Data Entry'!$G$25,'2a. Simple Form Data Entry'!J$25, IF(A35='2a. Simple Form Data Entry'!$G$26,'2a. Simple Form Data Entry'!J$26, " "))))))) | E35: =IF(A35=" ", " ", IF(A35='2a. Simple Form Data Entry'!$G$21, '2a. Simple Form Data Entry'!K$21, IF(A35='2a. Simple Form Data Entry'!$G$22,'2a. Simple Form Data Entry'!K$22, IF(A35='2a. Simple Form Data Entry'!$G$23, '2a. Simple Form Data Entry'!K$23, IF(A35='2a. Simple Form Data Entry'!$G$24, '2a. Simple Form Data Entry'!$K$24, IF(A35='2a. Simple Form Data Entry'!G$25,'2a. Simple Form Data Entry'!K$25, IF(A35='2a. Simple Form Data Entry'!G$26,'2a. Simple Form Data Entry'!K$26, " "))))))) | F35: =IF(A35=" ", " ", IF(A35='2a. Simple Form Data Entry'!$G$21, '2a. Simple Form Data Entry'!L$21, IF(A35='2a. Simple Form Data Entry'!$G$22,'2a. Simple Form Data Entry'!L$22, IF(A35='2a. Simple Form Data Entry'!$G$23, '2a. Simple Form Data Entry'!L$23, IF(A35='2a. Simple Form Data Entry'!$G$24, '2a. Simple Form Data Entry'!$L$24, IF(A35='2a. Simple Form Data Entry'!G$25,'2a. Simple Form Data Entry'!L$25, IF(A35='2a. Simple Form Data Entry'!G$26,'2a. Simple Form Data Entry'!L$26, " "))))))) | G35: =IF('2a. Simple Form Data Entry'!I80="", " ", '2a. Simple Form Data Entry'!I80)
B36: Real Estate Services Labor Costs | H36: =IF('2a. Simple Form Data Entry'!E82="", " ", '2a. Simple Form Data Entry'!E82) | I36: ='2a. Simple Form Data Entry'!N82 -> 0 | J36: ='2a. Simple Form Data Entry'!G82 -> 0 | K36: ='2a. Simple Form Data Entry'!H82 -> 0 | L36: =J36+K36 -> 0 | M36: ='2a. Simple Form Data Entry'!I82 -> 0 | N36: ='2a. Simple Form Data Entry'!J82 -> 0 | O36: =M36+N36 -> 0 | P36: ='2a. Simple Form Data Entry'!K82 -> 0 | Q36: ='2a. Simple Form Data Entry'!L82 -> 0 | R36: =P36+Q36 -> 0 | S36: ='2a. Simple Form Data Entry'!M82 -> 0
B37: King County Project Management | H37: =IF('2a. Simple Form Data Entry'!E83="", " ", '2a. Simple Form Data Entry'!E83) | I37: ='2a. Simple Form Data Entry'!N83 -> 0 | J37: ='2a. Simple Form Data Entry'!G83 -> 0 | K37: ='2a. Simple Form Data Entry'!H83 -> 0 | L37: =J37+K37 -> 0 | M37: ='2a. Simple Form Data Entry'!I83 -> 0 | N37: ='2a. Simple Form Data Entry'!J83 -> 0 | O37: =M37+N37 -> 0 | P37: ='2a. Simple Form Data Entry'!K83 -> 0 | Q37: ='2a. Simple Form Data Entry'!L83 -> 0 | R37: =P37+Q37 -> 0 | S37: ='2a. Simple Form Data Entry'!M83 -> 0
B38: Lease Payments/Associated O&M | H38: =IF('2a. Simple Form Data Entry'!E84="", " ", '2a. Simple Form Data Entry'!E84) -> Assumptions: 1) Rent payment with annual increase by three percent; 2) Exercise the option to extend the initial term for three additional five year periods | I38: ='2a. Simple Form Data Entry'!N84 -> 0 | J38: ='2a. Simple Form Data Entry'!G84 -> 0 | K38: ='2a. Simple Form Data Entry'!H84 -> 19032 | L38: =J38+K38 -> 19032 | M38: ='2a. Simple Form Data Entry'!I84 -> 19602.96 | N38: ='2a. Simple Form Data Entry'!J84 -> 20191.049 | O38: =M38+N38 -> 39794.009 | P38: ='2a. Simple Form Data Entry'!K84 -> 20796.78 | Q38: ='2a. Simple Form Data Entry'!L84 -> 21420.684 | R38: =P38+Q38 -> 42217.464 | S38: ='2a. Simple Form Data Entry'!M84 -> 410353.49
B39: Service Costs (Appraisal, Title, Move) | H39: =IF('2a. Simple Form Data Entry'!E85="", " ", '2a. Simple Form Data Entry'!E85) | I39: ='2a. Simple Form Data Entry'!N85 -> 0 | J39: ='2a. Simple Form Data Entry'!G85 -> 0 | K39: ='2a. Simple Form Data Entry'!H85 -> 0 | L39: =J39+K39 -> 0 | M39: ='2a. Simple Form Data Entry'!I85 -> 0 | N39: ='2a. Simple Form Data Entry'!J85 -> 0 | O39: =M39+N39 -> 0 | P39: ='2a. Simple Form Data Entry'!K85 -> 0 | Q39: ='2a. Simple Form Data Entry'!L85 -> 0 | R39: =P39+Q39 -> 0 | S39: ='2a. Simple Form Data Entry'!M85 -> 0
B40: Tenant and Other Improvements | H40: =IF('2a. Simple Form Data Entry'!E86="", " ", '2a. Simple Form Data Entry'!E86) | I40: ='2a. Simple Form Data Entry'!N86 -> 0 | J40: ='2a. Simple Form Data Entry'!G86 -> 0 | K40: ='2a. Simple Form Data Entry'!H86 -> 0 | L40: =J40+K40 -> 0 | M40: ='2a. Simple Form Data Entry'!I86 -> 0 | N40: ='2a. Simple Form Data Entry'!J86 -> 0 | O40: =M40+N40 -> 0 | P40: ='2a. Simple Form Data Entry'!K86 -> 0 | Q40: ='2a. Simple Form Data Entry'!L86 -> 0 | R40: =P40+Q40 -> 0 | S40: ='2a. Simple Form Data Entry'!M86 -> 0
B41: 10% Art for General Fund Transactions | H41: =IF('2a. Simple Form Data Entry'!E87="", " ", '2a. Simple Form Data Entry'!E87) | I41: ='2a. Simple Form Data Entry'!N87 -> 0 | J41: ='2a. Simple Form Data Entry'!G87 -> 0 | K41: ='2a. Simple Form Data Entry'!H87 -> 0 | L41: =J41+K41 -> 0 | M41: ='2a. Simple Form Data Entry'!I87 -> 0 | N41: ='2a. Simple Form Data Entry'!J87 -> 0 | O41: =M41+N41 -> 0 | P41: ='2a. Simple Form Data Entry'!K87 -> 0 | Q41: ='2a. Simple Form Data Entry'!L87 -> 0 | R41: =P41+Q41 -> 0 | S41: ='2a. Simple Form Data Entry'!M87 -> 0
B42: Other Transaction Costs | H42: =IF('2a. Simple Form Data Entry'!E88="", " ", '2a. Simple Form Data Entry'!E88) | I42: ='2a. Simple Form Data Entry'!N88 -> 0 | J42: ='2a. Simple Form Data Entry'!G88 -> 0 | K42: ='2a. Simple Form Data Entry'!H88 -> 0 | L42: =J42+K42 -> 0 | M42: ='2a. Simple Form Data Entry'!I88 -> 0 | N42: ='2a. Simple Form Data Entry'!J88 -> 0 | O42: =M42+N42 -> 0 | P42: ='2a. Simple Form Data Entry'!K88 -> 0 | Q42: ='2a. Simple Form Data Entry'!L88 -> 0 | R42: =P42+Q42 -> 0 | S42: ='2a. Simple Form Data Entry'!M88 -> 0
C43: SUBTOTAL | I43: =SUM(I36:I42) -> 0 | J43: =SUM(J36:J42) -> 0 | K43: =SUM(K36:K42) -> 19032 | L43: =J43+K43 -> 19032 | M43: =SUM(M36:M42) -> 19602.96 | N43: =SUM(N36:N42) -> 20191.049 | O43: =M43+N43 -> 39794.009 | P43: =SUM(P36:P42) -> 20796.78 | Q43: =SUM(Q36:Q42) -> 21420.684 | R43: =P43+Q43 -> 42217.464 | S43: =SUM(S36:S42) -> 410353.49
A45: =IF('2a. Simple Form Data Entry'!E91="", " ", '2a. Simple Form Data Entry'!E91) | D45: =IF(A45=" ", " ", IF(A45='2a. Simple Form Data Entry'!$G$21, '2a. Simple Form Data Entry'!J$21, IF(A45='2a. Simple Form Data Entry'!$G$22,'2a. Simple Form Data Entry'!J$22, IF(A45='2a. Simple Form Data Entry'!$G$23, '2a. Simple Form Data Entry'!J$23, IF(A45='2a. Simple Form Data Entry'!$G$24, '2a. Simple Form Data Entry'!$J$24, IF(A45='2a. Simple Form Data Entry'!$G$25,'2a. Simple Form Data Entry'!J$25, IF(A45='2a. Simple Form Data Entry'!$G$26,'2a. Simple Form Data Entry'!J$26, " "))))))) | E45: =IF(A45=" ", " ", IF(A45='2a. Simple Form Data Entry'!$G$21, '2a. Simple Form Data Entry'!K$21, IF(A45='2a. Simple Form Data Entry'!$G$22,'2a. Simple Form Data Entry'!K$22, IF(A45='2a. Simple Form Data Entry'!$G$23, '2a. Simple Form Data Entry'!K$23, IF(A45='2a. Simple Form Data Entry'!$G$24, '2a. Simple Form Data Entry'!$K$24, IF(A45='2a. Simple Form Data Entry'!G$25,'2a. Simple Form Data Entry'!K$25, IF(A45='2a. Simple Form Data Entry'!G$26,'2a. Simple Form Data Entry'!K$26, " "))))))) | F45: =IF(A45=" ", " ", IF(A45='2a. Simple Form Data Entry'!$G$21, '2a. Simple Form Data Entry'!L$21, IF(A45='2a. Simple Form Data Entry'!$G$22,'2a. Simple Form Data Entry'!L$22, IF(A45='2a. Simple Form Data Entry'!$G$23, '2a. Simple Form Data Entry'!L$23, IF(A45='2a. Simple Form Data Entry'!$G$24, '2a. Simple Form Data Entry'!$L$24, IF(A45='2a. Simple Form Data Entry'!G$25,'2a. Simple Form Data Entry'!L$25, IF(A45='2a. Simple Form Data Entry'!G$26,'2a. Simple Form Data Entry'!L$26, " "))))))) | G45: =IF('2a. Simple Form Data Entry'!I91="", " ", '2a. Simple Form Data Entry'!I91)
B46: Real Estate Services Labor Costs | H46: =IF('2a. Simple Form Data Entry'!E93="", " ", '2a. Simple Form Data Entry'!E93) | I46: ='2a. Simple Form Data Entry'!N93 -> 0 | J46: ='2a. Simple Form Data Entry'!G93 -> 0 | K46: ='2a. Simple Form Data Entry'!H93 -> 0 | L46: =J46+K46 -> 0 | M46: ='2a. Simple Form Data Entry'!I93 -> 0 | N46: ='2a. Simple Form Data Entry'!J93 -> 0 | O46: =M46+N46 -> 0 | P46: ='2a. Simple Form Data Entry'!K93 -> 0 | Q46: ='2a. Simple Form Data Entry'!L93 -> 0 | R46: =P46+Q46 -> 0 | S46: ='2a. Simple Form Data Entry'!M93 -> 0
B47: King County Project Management | H47: =IF('2a. Simple Form Data Entry'!E94="", " ", '2a. Simple Form Data Entry'!E94) | I47: ='2a. Simple Form Data Entry'!N94 -> 0 | J47: ='2a. Simple Form Data Entry'!G94 -> 0 | K47: ='2a. Simple Form Data Entry'!H94 -> 0 | L47: =J47+K47 -> 0 | M47: ='2a. Simple Form Data Entry'!I94 -> 0 | N47: ='2a. Simple Form Data Entry'!J94 -> 0 | O47: =M47+N47 -> 0 | P47: ='2a. Simple Form Data Entry'!K94 -> 0 | Q47: ='2a. Simple Form Data Entry'!L94 -> 0 | R47: =P47+Q47 -> 0 | S47: ='2a. Simple Form Data Entry'!M94 -> 0
B48: Lease Payments/Associated O&M | H48: =IF('2a. Simple Form Data Entry'!E95="", " ", '2a. Simple Form Data Entry'!E95) | I48: ='2a. Simple Form Data Entry'!N95 -> 0 | J48: ='2a. Simple Form Data Entry'!G95 -> 0 | K48: ='2a. Simple Form Data Entry'!H95 -> 0 | L48: =J48+K48 -> 0 | M48: ='2a. Simple Form Data Entry'!I95 -> 0 | N48: ='2a. Simple Form Data Entry'!J95 -> 0 | O48: =M48+N48 -> 0 | P48: ='2a. Simple Form Data Entry'!K95 -> 0 | Q48: ='2a. Simple Form Data Entry'!L95 -> 0 | R48: =P48+Q48 -> 0 | S48: ='2a. Simple Form Data Entry'!M95 -> 0
B49: Service Costs (Appraisal, Title, Move) | H49: =IF('2a. Simple Form Data Entry'!E96="", " ", '2a. Simple Form Data Entry'!E96) | I49: ='2a. Simple Form Data Entry'!N96 -> 0 | J49: ='2a. Simple Form Data Entry'!G96 -> 0 | K49: ='2a. Simple Form Data Entry'!H96 -> 0 | L49: =J49+K49 -> 0 | M49: ='2a. Simple Form Data Entry'!I96 -> 0 | N49: ='2a. Simple Form Data Entry'!J96 -> 0 | O49: =M49+N49 -> 0 | P49: ='2a. Simple Form Data Entry'!K96 -> 0 | Q49: ='2a. Simple Form Data Entry'!L96 -> 0 | R49: =P49+Q49 -> 0 | S49: ='2a. Simple Form Data Entry'!M96 -> 0
B50: Tenant and Other Improvements | H50: =IF('2a. Simple Form Data Entry'!E97="", " ", '2a. Simple Form Data Entry'!E97) | I50: ='2a. Simple Form Data Entry'!N97 -> 0 | J50: ='2a. Simple Form Data Entry'!G97 -> 0 | K50: ='2a. Simple Form Data Entry'!H97 -> 0 | L50: =J50+K50 -> 0 | M50: ='2a. Simple Form Data Entry'!I97 -> 0 | N50: ='2a. Simple Form Data Entry'!J97 -> 0 | O50: =M50+N50 -> 0 | P50: ='2a. Simple Form Data Entry'!K97 -> 0 | Q50: ='2a. Simple Form Data Entry'!L97 -> 0 | R50: =P50+Q50 -> 0 | S50: ='2a. Simple Form Data Entry'!M97 -> 0
B51: 10% Art for General Fund Transactions | H51: =IF('2a. Simple Form Data Entry'!E98="", " ", '2a. Simple Form Data Entry'!E98) | I51: ='2a. Simple Form Data Entry'!N98 -> 0 | J51: ='2a. Simple Form Data Entry'!G98 -> 0 | K51: ='2a. Simple Form Data Entry'!H98 -> 0 | L51: =J51+K51 -> 0 | M51: ='2a. Simple Form Data Entry'!I98 -> 0 | N51: ='2a. Simple Form Data Entry'!J98 -> 0 | O51: =M51+N51 -> 0 | P51: ='2a. Simple Form Data Entry'!K98 -> 0 | Q51: ='2a. Simple Form Data Entry'!L98 -> 0 | R51: =P51+Q51 -> 0 | S51: ='2a. Simple Form Data Entry'!M98 -> 0
...

Sheet 2b.  Complex Form Data Entry
C2: Complex Form Data Entry
C4: - In the highlighted cells, enter the information requested In this form. | J4: Simple data entry field
C5: - A fiscal note for the property sale/lease will be generated based on this information (see Fiscal Note tab). | J5: Dropdown menu data entry
C7: 1. General Transaction Information
C9: Financial Plan Element | D9: Description/Guidance on Requested Information | G9: Data Entry Field
C10: Description of Request:
C11: Title: | D11: Include property name and related agency/service/function.
C12: Affected Agency and/or Agencies: | D12: Applicable division and department names.
C13: Legal Transaction Type: | D13: Sale, lease renewal, new lease for new service, relocation, other.
C14: Fiscal Transaction Type: | D14: 1st/2nd/3rd omnibus, biennial review, stand alone ordinance, other.
C15: Note Prepared By: | D15: FMD finance manager and property agent.
C16: Date Prepared: | D16: Date in XX/XX/XX text format (i.e., 'XX/XX/XX)
C17: Transaction Duration: | D17: The term of the lease/agreement or capital investment. Property sale = NA.
C18: Fair Market Value: | D18: If not a sale = NA.
C19: Current Year: | D19: First year of current biennium (in XXXX format, should be odd number). | G19: 2026
G20: Appropriation Unit Name | J20: Appr. Unit Number | K20: Department | L20: Fund Number
C21: Appropriation Units Impacted: | D21: All impacted appropriation unit names and numbers and department initials.
C29: Projects Impacted: | D29: Project numbers impacted by this transaction (enter as 7 digit number with', i.e., 'XXXXXXX).
I31: NA
C34: 2. Financial Impacts - Net Present Value
C36: An NPV analysis should be performed for transactions that: - Result in long term financial impacts, especially including instances where a transaction represents an upfront cost to be recouped in later years - Where the transaction represents a change in policy or opertions, and - Where there are viable alternatives with different benefits and costs that should be considered. Examples include vacating a owned space for a leased space, selling a currently operating facility, entering into a long term agreement to lease out a property, relocating from one leased space to another. An explanation of the NPV analysis, including major assumptions and supporting information, should be provided in the "Notes" section . If no NPV was performed, the rationale for not providing this information should be provided below.
C37: Financial Plan Element | D37: Description/Guidance on Requested Information | G37: Data Entry Field
C39: Was an Net Present Value calculation performed? | D39: Indicate whether a NPV analysis has been performed. If no NPV, then indicate why below. | G39: N
C40: Net Present Value to King County: | D40: The NPV of the transaction to King County as a whole. NA = not performed. | G40: 3000000
C41: Net Present Value to Impacted Agency: | D41: The NPV of the transaction to the primary customer of the transaction. NA = not performed. | G41: 4000000
C43: If an NPV analysis was not performed for either the County or the Agency or both, state rationale here: | D43: An NPV analysis was not performed because …
C46: 3. Financial Impacts - Revenue and Expenditure Impacts
C48: - Provide the estimated revenue and expenditure impacts to each KC appropriation unit and project combination. - Impacts should represent the complete revenue/expenditure impacts of the transaction, whether or not there is a corresponding need for supplemental appropriation. Not all the costs included in the NPV will be represented below. For instance, ongoing maintenance costs in a KC building vacated by a KC agency may be included in the KC NPV, but would not be included below because the transaction does not impact these costs. - For transactions with mid-year impacts, the fiscal note should represent the best estimate of the effective date of the transaction as of the date prepared. - The sum of outyear impacts for revenue and expenditures includes all revenues/expenditures for the duration of the lease/other agreement or life of the capital investment. - Values represented below should be net values (combined impact of cost savings and additional costs, revenue loss and new revenues). Overall, positive values indicate an increase in revenues/expenditures while negative values indicate a reduction in expenditures/revenues. De minimus cost savings, such as minor reductions in maintenance costs, do not need to be included. - A detailed explanation of revenue and expenditure impacts analysis, including workload impacts, major assumptions, and other supporting data, should be provided in the property summary.
C50: 3.1. Revenue Impacts:
C52: Is the cost of the transaction partially or entirely covered by fund balance? | D52: N | E52: If yes, indicate fund balance amount: (enter as text, including $ and ,) | F52: $5,000
C54: Is the activity partially or entirely covered by reallocation of grants? | D54: N | E54: If yes, indicate grant amount: (enter as text, including $ and ,) | F54: $3,000
C56: Indicate new revenue provided to KC appropriation units as a result of this transaction. Fund balance and reallocated grant revenue ARE NOT new revenue.
C57: Appropriation Unit Name | D57: Project | E57: Revenue Account Code and Source/Description | G57: 2026 | H57: =G57+1 -> 2027 | I57: =H57+1 -> 2028 | J57: =I57+1 -> 2029 | K57: =J57+1 -> 2030 | L57: =K57+1 -> 2031 | M57: Sum of Outyear Impacts | N57: =CONCATENATE("Sum of Revenues Prior to ",G$19) -> Sum of Revenues Prior to 2026
C66: 3.2. Expenditures Impacts:
C68: Indicate expenditure impacts in the categories indicated and defined below that result from this transaction.
C70: Descriptions of Expenditure Categories:
C71: Real Estate Services Labor Costs | E71: Labor costs that RES has incurred associated with this transaction.
C72: King County Project Management | E72: Project management to be incurred in association with this transaction.
C73: Lease Payments/Associated O&M | E73: Lease payments as well as associated O&M for the life of the agreement.
C74: Service Costs (Appraisal, Title, Move) | E74: Moving/relocation costs, appraisal costs, title fees, and other services provided in support of the transaction.
...

Sheet 3b.  Complex Form Fiscal Note
A1: KING COUNTY FISCAL NOTE - Property Leases and Sales
A3: GENERAL TRANSACTION INFORMATION
A5: Ordinance/Motion:
A6: Title: | C6: =IF('2b. Complex Form Data Entry'!G11="", " ",'2b. Complex Form Data Entry'!G11) | L6: Transaction Duration: | R6: =IF('2b. Complex Form Data Entry'!G17="", " ",'2b. Complex Form Data Entry'!G17) | S6: yrs
A7: Affected Agency/Agencies: | C7: =IF('2b. Complex Form Data Entry'!G12="", " ",'2b. Complex Form Data Entry'!G12) | L7: Fair Market Value: | R7: ='2b. Complex Form Data Entry'!G18 -> 0
A8: Note Prepared By: | C8: =IF('2b. Complex Form Data Entry'!G15="", " ",'2b. Complex Form Data Entry'!G15) | F8: Date Prepared: | H8: =IF('2b. Complex Form Data Entry'!G15="", " ", '2b. Complex Form Data Entry'!G16) | L8: Legal Transaction Type: | R8: =IF('2b. Complex Form Data Entry'!G13="", " ",'2b. Complex Form Data Entry'!G13)
A9: Note Reviewed By: | F9: Date Reviewed: | L9: Fiscal Transaction Type: | R9: =IF('2b. Complex Form Data Entry'!G14="", " ",'2b. Complex Form Data Entry'!G14)
A10: Description of Request: | C10: =IF('2b. Complex Form Data Entry'!G10="", " ", '2b. Complex Form Data Entry'!G10)
A13: FINANCIAL IMPACTS
A15: Part 1 - Net Present Value Analysis Results
A17: Net Present Value to King County (all impacts): *** | E17: =IF('2b. Complex Form Data Entry'!G39="N", "NA",'2b. Complex Form Data Entry'!G40) -> NA | H17: Net Present Value to Primary Impacted Agency (customer of transaction): *** | O17: =IF('2b. Complex Form Data Entry'!G39="N", "NA",'2b. Complex Form Data Entry'!G41) -> NA
A19: Part 2 - Revenue and Expenditure Impacts
A21: As of the preparation date of this fiscal note, the impact of the above legislation on the financial affairs of King County is estimated to be as indicated below: 1
A23: Revenue to: 2,3,5
A24: Appropriation Unit | D24: Appr. Number | E24: Department | F24: Fund Number | G24: Project Number | H24: Revenue Account Code and Source/Description | I24: ='2b. Complex Form Data Entry'!N57 -> Sum of Revenues Prior to 2026 | J24: ='2b. Complex Form Data Entry'!G19 -> 2026 | K24: =J24+1 -> 2027 | L24: =CONCATENATE(J24," / ",K24) -> 2026 / 2027 | M24: =K24+1 -> 2028 | N24: =M24+1 -> 2029 | O24: =CONCATENATE(M24," / ",N24) -> 2028 / 2029 | P24: =N24+1 -> 2030 | Q24: =P24+1 -> 2031 | R24: =CONCATENATE(P24," / ",Q24) -> 2030 / 2031 | S24: Sum of Outyear Impacts 2
A25: =IF('2b. Complex Form Data Entry'!C58="", " ", '2b. Complex Form Data Entry'!C58) | D25: =IF(A25=" ", " ", IF(A25='2b. Complex Form Data Entry'!$G$21, '2b. Complex Form Data Entry'!J$21, IF(A25='2b. Complex Form Data Entry'!$G$22,'2b. Complex Form Data Entry'!J$22, IF(A25='2b. Complex Form Data Entry'!$G$23, '2b. Complex Form Data Entry'!J$23, IF(A25='2b. Complex Form Data Entry'!$G$24, '2b. Complex Form Data Entry'!$J$24, IF(A25='2b. Complex Form Data Entry'!$G$25,'2b. Complex Form Data Entry'!J$25, IF(A25='2b. Complex Form Data Entry'!$G$26,'2b. Complex Form Data Entry'!J$26, " "))))))) | E25: =IF(A25=" ", " ", IF(A25='2b. Complex Form Data Entry'!$G$21, '2b. Complex Form Data Entry'!K$21, IF(A25='2b. Complex Form Data Entry'!$G$22,'2b. Complex Form Data Entry'!K$22, IF(A25='2b. Complex Form Data Entry'!$G$23, '2b. Complex Form Data Entry'!K$23, IF(A25='2b. Complex Form Data Entry'!$G$24, '2b. Complex Form Data Entry'!$K$24, IF(A25='2b. Complex Form Data Entry'!G$25,'2b. Complex Form Data Entry'!K$25, IF(A25='2b. Complex Form Data Entry'!G$26,'2b. Complex Form Data Entry'!K$26, " "))))))) | F25: =IF(A25=" ", " ", IF(A25='2b. Complex Form Data Entry'!$G$21, '2b. Complex Form Data Entry'!L$21, IF(A25='2b. Complex Form Data Entry'!$G$22,'2b. Complex Form Data Entry'!L$22, IF(A25='2b. Complex Form Data Entry'!$G$23, '2b. Complex Form Data Entry'!L$23, IF(A25='2b. Complex Form Data Entry'!$G$24, '2b. Complex Form Data Entry'!$L$24, IF(A25='2b. Complex Form Data Entry'!G$25,'2b. Complex Form Data Entry'!L$25, IF(A25='2b. Complex Form Data Entry'!G$26,'2b. Complex Form Data Entry'!L$26, " "))))))) | G25: =IF(A25="", " ", '2b. Complex Form Data Entry'!D58) | H25: =IF('2b. Complex Form Data Entry'!E58="", " ",'2b. Complex Form Data Entry'!E58) | I25: ='2b. Complex Form Data Entry'!N58 -> 0 | J25: ='2b. Complex Form Data Entry'!G58 -> 0 | K25: ='2b. Complex Form Data Entry'!H58 -> 0 | L25: =J25+K25 -> 0 | M25: ='2b. Complex Form Data Entry'!I58 -> 0 | N25: ='2b. Complex Form Data Entry'!J58 -> 0 | O25: =M25+N25 -> 0 | P25: ='2b. Complex Form Data Entry'!K58 -> 0 | Q25: ='2b. Complex Form Data Entry'!L58 -> 0 | R25: =P25+Q25 -> 0 | S25: ='2b. Complex Form Data Entry'!M58 -> 0
A26: =IF('2b. Complex Form Data Entry'!C59="", " ", '2b. Complex Form Data Entry'!C59) | D26: =IF(A26=" ", " ", IF(A26='2b. Complex Form Data Entry'!$G$21, '2b. Complex Form Data Entry'!J$21, IF(A26='2b. Complex Form Data Entry'!$G$22,'2b. Complex Form Data Entry'!J$22, IF(A26='2b. Complex Form Data Entry'!$G$23, '2b. Complex Form Data Entry'!J$23, IF(A26='2b. Complex Form Data Entry'!$G$24, '2b. Complex Form Data Entry'!$J$24, IF(A26='2b. Complex Form Data Entry'!$G$25,'2b. Complex Form Data Entry'!J$25, IF(A26='2b. Complex Form Data Entry'!$G$26,'2b. Complex Form Data Entry'!J$26, " "))))))) | E26: =IF(A26=" ", " ", IF(A26='2b. Complex Form Data Entry'!$G$21, '2b. Complex Form Data Entry'!K$21, IF(A26='2b. Complex Form Data Entry'!$G$22,'2b. Complex Form Data Entry'!K$22, IF(A26='2b. Complex Form Data Entry'!$G$23, '2b. Complex Form Data Entry'!K$23, IF(A26='2b. Complex Form Data Entry'!$G$24, '2b. Complex Form Data Entry'!$K$24, IF(A26='2b. Complex Form Data Entry'!G$25,'2b. Complex Form Data Entry'!K$25, IF(A26='2b. Complex Form Data Entry'!G$26,'2b. Complex Form Data Entry'!K$26, " "))))))) | F26: =IF(A26=" ", " ", IF(A26='2b. Complex Form Data Entry'!$G$21, '2b. Complex Form Data Entry'!L$21, IF(A26='2b. Complex Form Data Entry'!$G$22,'2b. Complex Form Data Entry'!L$22, IF(A26='2b. Complex Form Data Entry'!$G$23, '2b. Complex Form Data Entry'!L$23, IF(A26='2b. Complex Form Data Entry'!$G$24, '2b. Complex Form Data Entry'!$L$24, IF(A26='2b. Complex Form Data Entry'!G$25,'2b. Complex Form Data Entry'!L$25, IF(A26='2b. Complex Form Data Entry'!G$26,'2b. Complex Form Data Entry'!L$26, " "))))))) | G26: =IF(A26="", " ", '2b. Complex Form Data Entry'!D59) | H26: =IF('2b. Complex Form Data Entry'!E59="", " ",'2b. Complex Form Data Entry'!E59) | I26: ='2b. Complex Form Data Entry'!N59 -> 0 | J26: ='2b. Complex Form Data Entry'!G59 -> 0 | K26: ='2b. Complex Form Data Entry'!H59 -> 0 | L26: =J26+K26 -> 0 | M26: ='2b. Complex Form Data Entry'!I59 -> 0 | N26: ='2b. Complex Form Data Entry'!J59 -> 0 | O26: =M26+N26 -> 0 | P26: ='2b. Complex Form Data Entry'!K59 -> 0 | Q26: ='2b. Complex Form Data Entry'!L59 -> 0 | R26: =P26+Q26 -> 0 | S26: ='2b. Complex Form Data Entry'!M59 -> 0
A27: =IF('2b. Complex Form Data Entry'!C60="", " ", '2b. Complex Form Data Entry'!C60) | D27: =IF(A27=" ", " ", IF(A27='2b. Complex Form Data Entry'!$G$21, '2b. Complex Form Data Entry'!J$21, IF(A27='2b. Complex Form Data Entry'!$G$22,'2b. Complex Form Data Entry'!J$22, IF(A27='2b. Complex Form Data Entry'!$G$23, '2b. Complex Form Data Entry'!J$23, IF(A27='2b. Complex Form Data Entry'!$G$24, '2b. Complex Form Data Entry'!$J$24, IF(A27='2b. Complex Form Data Entry'!$G$25,'2b. Complex Form Data Entry'!J$25, IF(A27='2b. Complex Form Data Entry'!$G$26,'2b. Complex Form Data Entry'!J$26, " "))))))) | E27: =IF(A27=" ", " ", IF(A27='2b. Complex Form Data Entry'!$G$21, '2b. Complex Form Data Entry'!K$21, IF(A27='2b. Complex Form Data Entry'!$G$22,'2b. Complex Form Data Entry'!K$22, IF(A27='2b. Complex Form Data Entry'!$G$23, '2b. Complex Form Data Entry'!K$23, IF(A27='2b. Complex Form Data Entry'!$G$24, '2b. Complex Form Data Entry'!$K$24, IF(A27='2b. Complex Form Data Entry'!G$25,'2b. Complex Form Data Entry'!K$25, IF(A27='2b. Complex Form Data Entry'!G$26,'2b. Complex Form Data Entry'!K$26, " "))))))) | F27: =IF(A27=" ", " ", IF(A27='2b. Complex Form Data Entry'!$G$21, '2b. Complex Form Data Entry'!L$21, IF(A27='2b. Complex Form Data Entry'!$G$22,'2b. Complex Form Data Entry'!L$22, IF(A27='2b. Complex Form Data Entry'!$G$23, '2b. Complex Form Data Entry'!L$23, IF(A27='2b. Complex Form Data Entry'!$G$24, '2b. Complex Form Data Entry'!$L$24, IF(A27='2b. Complex Form Data Entry'!G$25,'2b. Complex Form Data Entry'!L$25, IF(A27='2b. Complex Form Data Entry'!G$26,'2b. Complex Form Data Entry'!L$26, " "))))))) | G27: =IF(A27="", " ", '2b. Complex Form Data Entry'!D60) | H27: =IF('2b. Complex Form Data Entry'!E60="", " ",'2b. Complex Form Data Entry'!E60) | I27: ='2b. Complex Form Data Entry'!N60 -> 0 | J27: ='2b. Complex Form Data Entry'!G60 -> 0 | K27: ='2b. Complex Form Data Entry'!H60 -> 0 | L27: =J27+K27 -> 0 | M27: ='2b. Complex Form Data Entry'!I60 -> 0 | N27: ='2b. Complex Form Data Entry'!J60 -> 0 | O27: =M27+N27 -> 0 | P27: ='2b. Complex Form Data Entry'!K60 -> 0 | Q27: ='2b. Complex Form Data Entry'!L60 -> 0 | R27: =P27+Q27 -> 0 | S27: ='2b. Complex Form Data Entry'!M60 -> 0
A28: =IF('2b. Complex Form Data Entry'!C61="", " ", '2b. Complex Form Data Entry'!C61) | D28: =IF(A28=" ", " ", IF(A28='2b. Complex Form Data Entry'!$G$21, '2b. Complex Form Data Entry'!J$21, IF(A28='2b. Complex Form Data Entry'!$G$22,'2b. Complex Form Data Entry'!J$22, IF(A28='2b. Complex Form Data Entry'!$G$23, '2b. Complex Form Data Entry'!J$23, IF(A28='2b. Complex Form Data Entry'!$G$24, '2b. Complex Form Data Entry'!$J$24, IF(A28='2b. Complex Form Data Entry'!$G$25,'2b. Complex Form Data Entry'!J$25, IF(A28='2b. Complex Form Data Entry'!$G$26,'2b. Complex Form Data Entry'!J$26, " "))))))) | E28: =IF(A28=" ", " ", IF(A28='2b. Complex Form Data Entry'!$G$21, '2b. Complex Form Data Entry'!K$21, IF(A28='2b. Complex Form Data Entry'!$G$22,'2b. Complex Form Data Entry'!K$22, IF(A28='2b. Complex Form Data Entry'!$G$23, '2b. Complex Form Data Entry'!K$23, IF(A28='2b. Complex Form Data Entry'!$G$24, '2b. Complex Form Data Entry'!$K$24, IF(A28='2b. Complex Form Data Entry'!G$25,'2b. Complex Form Data Entry'!K$25, IF(A28='2b. Complex Form Data Entry'!G$26,'2b. Complex Form Data Entry'!K$26, " "))))))) | F28: =IF(A28=" ", " ", IF(A28='2b. Complex Form Data Entry'!$G$21, '2b. Complex Form Data Entry'!L$21, IF(A28='2b. Complex Form Data Entry'!$G$22,'2b. Complex Form Data Entry'!L$22, IF(A28='2b. Complex Form Data Entry'!$G$23, '2b. Complex Form Data Entry'!L$23, IF(A28='2b. Complex Form Data Entry'!$G$24, '2b. Complex Form Data Entry'!$L$24, IF(A28='2b. Complex Form Data Entry'!G$25,'2b. Complex Form Data Entry'!L$25, IF(A28='2b. Complex Form Data Entry'!G$26,'2b. Complex Form Data Entry'!L$26, " "))))))) | G28: =IF(A28="", " ", '2b. Complex Form Data Entry'!D61) | H28: =IF('2b. Complex Form Data Entry'!E61="", " ",'2b. Complex Form Data Entry'!E61) | I28: ='2b. Complex Form Data Entry'!N61 -> 0 | J28: ='2b. Complex Form Data Entry'!G61 -> 0 | K28: ='2b. Complex Form Data Entry'!H61 -> 0 | L28: =J28+K28 -> 0 | M28: ='2b. Complex Form Data Entry'!I61 -> 0 | N28: ='2b. Complex Form Data Entry'!J61 -> 0 | O28: =M28+N28 -> 0 | P28: ='2b. Complex Form Data Entry'!K61 -> 0 | Q28: ='2b. Complex Form Data Entry'!L61 -> 0 | R28: =P28+Q28 -> 0 | S28: ='2b. Complex Form Data Entry'!M61 -> 0
A29: =IF('2b. Complex Form Data Entry'!C62="", " ", '2b. Complex Form Data Entry'!C62) | D29: =IF(A29=" ", " ", IF(A29='2b. Complex Form Data Entry'!$G$21, '2b. Complex Form Data Entry'!J$21, IF(A29='2b. Complex Form Data Entry'!$G$22,'2b. Complex Form Data Entry'!J$22, IF(A29='2b. Complex Form Data Entry'!$G$23, '2b. Complex Form Data Entry'!J$23, IF(A29='2b. Complex Form Data Entry'!$G$24, '2b. Complex Form Data Entry'!$J$24, IF(A29='2b. Complex Form Data Entry'!$G$25,'2b. Complex Form Data Entry'!J$25, IF(A29='2b. Complex Form Data Entry'!$G$26,'2b. Complex Form Data Entry'!J$26, " "))))))) | E29: =IF(A29=" ", " ", IF(A29='2b. Complex Form Data Entry'!$G$21, '2b. Complex Form Data Entry'!K$21, IF(A29='2b. Complex Form Data Entry'!$G$22,'2b. Complex Form Data Entry'!K$22, IF(A29='2b. Complex Form Data Entry'!$G$23, '2b. Complex Form Data Entry'!K$23, IF(A29='2b. Complex Form Data Entry'!$G$24, '2b. Complex Form Data Entry'!$K$24, IF(A29='2b. Complex Form Data Entry'!G$25,'2b. Complex Form Data Entry'!K$25, IF(A29='2b. Complex Form Data Entry'!G$26,'2b. Complex Form Data Entry'!K$26, " "))))))) | F29: =IF(A29=" ", " ", IF(A29='2b. Complex Form Data Entry'!$G$21, '2b. Complex Form Data Entry'!L$21, IF(A29='2b. Complex Form Data Entry'!$G$22,'2b. Complex Form Data Entry'!L$22, IF(A29='2b. Complex Form Data Entry'!$G$23, '2b. Complex Form Data Entry'!L$23, IF(A29='2b. Complex Form Data Entry'!$G$24, '2b. Complex Form Data Entry'!$L$24, IF(A29='2b. Complex Form Data Entry'!G$25,'2b. Complex Form Data Entry'!L$25, IF(A29='2b. Complex Form Data Entry'!G$26,'2b. Complex Form Data Entry'!L$26, " "))))))) | G29: =IF(A29="", " ", '2b. Complex Form Data Entry'!D62) | H29: =IF('2b. Complex Form Data Entry'!E62="", " ",'2b. Complex Form Data Entry'!E62) | I29: ='2b. Complex Form Data Entry'!N62 -> 0 | J29: ='2b. Complex Form Data Entry'!G62 -> 0 | K29: ='2b. Complex Form Data Entry'!H62 -> 0 | L29: =J29+K29 -> 0 | M29: ='2b. Complex Form Data Entry'!I62 -> 0 | N29: ='2b. Complex Form Data Entry'!J62 -> 0 | O29: =M29+N29 -> 0 | P29: ='2b. Complex Form Data Entry'!K62 -> 0 | Q29: ='2b. Complex Form Data Entry'!L62 -> 0 | R29: =P29+Q29 -> 0 | S29: ='2b. Complex Form Data Entry'!M62 -> 0
A30: =IF('2b. Complex Form Data Entry'!C63="", " ", '2b. Complex Form Data Entry'!C63) | D30: =IF(A30=" ", " ", IF(A30='2b. Complex Form Data Entry'!$G$21, '2b. Complex Form Data Entry'!J$21, IF(A30='2b. Complex Form Data Entry'!$G$22,'2b. Complex Form Data Entry'!J$22, IF(A30='2b. Complex Form Data Entry'!$G$23, '2b. Complex Form Data Entry'!J$23, IF(A30='2b. Complex Form Data Entry'!$G$24, '2b. Complex Form Data Entry'!$J$24, IF(A30='2b. Complex Form Data Entry'!$G$25,'2b. Complex Form Data Entry'!J$25, IF(A30='2b. Complex Form Data Entry'!$G$26,'2b. Complex Form Data Entry'!J$26, " "))))))) | E30: =IF(A30=" ", " ", IF(A30='2b. Complex Form Data Entry'!$G$21, '2b. Complex Form Data Entry'!K$21, IF(A30='2b. Complex Form Data Entry'!$G$22,'2b. Complex Form Data Entry'!K$22, IF(A30='2b. Complex Form Data Entry'!$G$23, '2b. Complex Form Data Entry'!K$23, IF(A30='2b. Complex Form Data Entry'!$G$24, '2b. Complex Form Data Entry'!$K$24, IF(A30='2b. Complex Form Data Entry'!G$25,'2b. Complex Form Data Entry'!K$25, IF(A30='2b. Complex Form Data Entry'!G$26,'2b. Complex Form Data Entry'!K$26, " "))))))) | F30: =IF(A30=" ", " ", IF(A30='2b. Complex Form Data Entry'!$G$21, '2b. Complex Form Data Entry'!L$21, IF(A30='2b. Complex Form Data Entry'!$G$22,'2b. Complex Form Data Entry'!L$22, IF(A30='2b. Complex Form Data Entry'!$G$23, '2b. Complex Form Data Entry'!L$23, IF(A30='2b. Complex Form Data Entry'!$G$24, '2b. Complex Form Data Entry'!$L$24, IF(A30='2b. Complex Form Data Entry'!G$25,'2b. Complex Form Data Entry'!L$25, IF(A30='2b. Complex Form Data Entry'!G$26,'2b. Complex Form Data Entry'!L$26, " "))))))) | G30: =IF(A30="", " ", '2b. Complex Form Data Entry'!D63) | H30: =IF('2b. Complex Form Data Entry'!E63="", " ",'2b. Complex Form Data Entry'!E63) | I30: ='2b. Complex Form Data Entry'!N63 -> 0 | J30: ='2b. Complex Form Data Entry'!G63 -> 0 | K30: ='2b. Complex Form Data Entry'!H63 -> 0 | L30: =J30+K30 -> 0 | M30: ='2b. Complex Form Data Entry'!I63 -> 0 | N30: ='2b. Complex Form Data Entry'!J63 -> 0 | O30: =M30+N30 -> 0 | P30: ='2b. Complex Form Data Entry'!K63 -> 0 | Q30: ='2b. Complex Form Data Entry'!L63 -> 0 | R30: =P30+Q30 -> 0 | S30: ='2b. Complex Form Data Entry'!M63 -> 0
C31: TOTAL | I31: =SUM(I25:I30) -> 0 | J31: =SUM(J25:J30) -> 0 | K31: =SUM(K25:K30) -> 0 | L31: =J31+K31 -> 0 | M31: =SUM(M25:M30) -> 0 | N31: =SUM(N25:N30) -> 0 | O31: =M31+N31 -> 0 | P31: =SUM(P25:P30) -> 0 | Q31: =SUM(Q25:Q30) -> 0 | R31: =P31+Q31 -> 0 | S31: =SUM(S25:S30) -> 0
A33: Expenditures from: 2,3,4,5
A34: Appropriation Unit/Expenditure Type | D34: Appr. Number | E34: Department | F34: Fund Number | G34: Project Number | H34: Expenditure Notes | I34: ='2b. Complex Form Data Entry'!N81 -> Sum of Expenditures Prior to 2026 | J34: ='2b. Complex Form Data Entry'!G19 -> 2026 | K34: =J34+1 -> 2027 | L34: =CONCATENATE(J34," / ",K34) -> 2026 / 2027 | M34: =K34+1 -> 2028 | N34: =M34+1 -> 2029 | O34: =CONCATENATE(M34," / ",N34) -> 2028 / 2029 | P34: =N34+1 -> 2030 | Q34: =P34+1 -> 2031 | R34: =CONCATENATE(P34," / ",Q34) -> 2030 / 2031 | S34: Sum of Outyear Impacts 2
A35: =IF('2b. Complex Form Data Entry'!E80="", " ", '2b. Complex Form Data Entry'!E80) | D35: =IF(A35=" ", " ", IF(A35='2b. Complex Form Data Entry'!$G$21, '2b. Complex Form Data Entry'!J$21, IF(A35='2b. Complex Form Data Entry'!$G$22,'2b. Complex Form Data Entry'!J$22, IF(A35='2b. Complex Form Data Entry'!$G$23, '2b. Complex Form Data Entry'!J$23, IF(A35='2b. Complex Form Data Entry'!$G$24, '2b. Complex Form Data Entry'!$J$24, IF(A35='2b. Complex Form Data Entry'!$G$25,'2b. Complex Form Data Entry'!J$25, IF(A35='2b. Complex Form Data Entry'!$G$26,'2b. Complex Form Data Entry'!J$26, " "))))))) | E35: =IF(A35=" ", " ", IF(A35='2b. Complex Form Data Entry'!$G$21, '2b. Complex Form Data Entry'!K$21, IF(A35='2b. Complex Form Data Entry'!$G$22,'2b. Complex Form Data Entry'!K$22, IF(A35='2b. Complex Form Data Entry'!$G$23, '2b. Complex Form Data Entry'!K$23, IF(A35='2b. Complex Form Data Entry'!$G$24, '2b. Complex Form Data Entry'!$K$24, IF(A35='2b. Complex Form Data Entry'!G$25,'2b. Complex Form Data Entry'!K$25, IF(A35='2b. Complex Form Data Entry'!G$26,'2b. Complex Form Data Entry'!K$26, " "))))))) | F35: =IF(A35=" ", " ", IF(A35='2b. Complex Form Data Entry'!$G$21, '2b. Complex Form Data Entry'!L$21, IF(A35='2b. Complex Form Data Entry'!$G$22,'2b. Complex Form Data Entry'!L$22, IF(A35='2b. Complex Form Data Entry'!$G$23, '2b. Complex Form Data Entry'!L$23, IF(A35='2b. Complex Form Data Entry'!$G$24, '2b. Complex Form Data Entry'!$L$24, IF(A35='2b. Complex Form Data Entry'!G$25,'2b. Complex Form Data Entry'!L$25, IF(A35='2b. Complex Form Data Entry'!G$26,'2b. Complex Form Data Entry'!L$26, " "))))))) | G35: =IF('2b. Complex Form Data Entry'!I80="", " ", '2b. Complex Form Data Entry'!I80)
B36: Real Estate Services Labor Costs | H36: =IF('2b. Complex Form Data Entry'!E82="", " ", '2b. Complex Form Data Entry'!E82) | I36: ='2b. Complex Form Data Entry'!N82 -> 0 | J36: ='2b. Complex Form Data Entry'!G82 -> 0 | K36: ='2b. Complex Form Data Entry'!H82 -> 0 | L36: =J36+K36 -> 0 | M36: ='2b. Complex Form Data Entry'!I82 -> 0 | N36: ='2b. Complex Form Data Entry'!J82 -> 0 | O36: =M36+N36 -> 0 | P36: ='2b. Complex Form Data Entry'!K82 -> 0 | Q36: ='2b. Complex Form Data Entry'!L82 -> 0 | R36: =P36+Q36 -> 0 | S36: ='2b. Complex Form Data Entry'!M82 -> 0
B37: King County Project Management | H37: =IF('2b. Complex Form Data Entry'!E83="", " ", '2b. Complex Form Data Entry'!E83) | I37: ='2b. Complex Form Data Entry'!N83 -> 0 | J37: ='2b. Complex Form Data Entry'!G83 -> 0 | K37: ='2b. Complex Form Data Entry'!H83 -> 0 | L37: =J37+K37 -> 0 | M37: ='2b. Complex Form Data Entry'!I83 -> 0 | N37: ='2b. Complex Form Data Entry'!J83 -> 0 | O37: =M37+N37 -> 0 | P37: ='2b. Complex Form Data Entry'!K83 -> 0 | Q37: ='2b. Complex Form Data Entry'!L83 -> 0 | R37: =P37+Q37 -> 0 | S37: ='2b. Complex Form Data Entry'!M83 -> 0
